BEGIN:VCALENDAR
VERSION:2.0
PRODID:-//Patient Worthy - ECPv5.12.4//NONSGML v1.0//EN
CALSCALE:GREGORIAN
METHOD:PUBLISH
X-WR-CALNAME:Patient Worthy
X-ORIGINAL-URL:https://patientworthy.com
X-WR-CALDESC:Events for Patient Worthy
BEGIN:VTIMEZONE
TZID:America/New_York
BEGIN:DAYLIGHT
TZOFFSETFROM:-0500
TZOFFSETTO:-0400
TZNAME:EDT
DTSTART:20240310T070000
END:DAYLIGHT
BEGIN:STANDARD
TZOFFSETFROM:-0400
TZOFFSETTO:-0500
TZNAME:EST
DTSTART:20241103T060000
END:STANDARD
END:VTIMEZONE
BEGIN:VEVENT
DTSTART;TZID=America/New_York:20240624T130000
DTEND;TZID=America/New_York:20240624T140000
DTSTAMP:20260423T065848
CREATED:20240506T194614Z
LAST-MODIFIED:20240506T194614Z
UID:3491908-1719234000-1719237600@patientworthy.com
SUMMARY:The BHD Foundation's Meet the Expert World Pneumothorax Day Webinar
DESCRIPTION:The BHD Foundation’s\nMeet the Expert World Pneumothorax Day Webinar\nJune 24\, 2024 \nJoin us on World Pneumothorax Day for a special Meet the Expert event! We will be joined by Professor Stefan Marciniak of Cambridge University and Professor Simon Johnson of Nottingham University who will be talking about the latest information about BHD and pneumothorax. Includes a Q&A session where you can ask the experts! \nTo sign up\, click here.
URL:https://patientworthy.com/event/bhd-foundations-meet-expert-world-pneumothorax-webinar/
CATEGORIES:Birt-Hogg-Dube Syndrome
ORGANIZER;CN="BHD%20Foundation":MAILTO:contact@bhdsyndrome.org
END:VEVENT
END:VCALENDAR