BEGIN:VCALENDAR
VERSION:2.0
PRODID:-//Patient Worthy - ECPv5.12.4//NONSGML v1.0//EN
CALSCALE:GREGORIAN
METHOD:PUBLISH
X-WR-CALNAME:Patient Worthy
X-ORIGINAL-URL:https://patientworthy.com
X-WR-CALDESC:Events for Patient Worthy
BEGIN:VTIMEZONE
TZID:America/New_York
BEGIN:DAYLIGHT
TZOFFSETFROM:-0500
TZOFFSETTO:-0400
TZNAME:EDT
DTSTART:20170312T070000
END:DAYLIGHT
BEGIN:STANDARD
TZOFFSETFROM:-0400
TZOFFSETTO:-0500
TZNAME:EST
DTSTART:20171105T060000
END:STANDARD
END:VTIMEZONE
BEGIN:VEVENT
DTSTART;VALUE=DATE:20170728
DTEND;VALUE=DATE:20170731
DTSTAMP:20260423T084224
CREATED:20170307T160351Z
LAST-MODIFIED:20170530T201859Z
UID:46157-1501200000-1501459199@patientworthy.com
SUMMARY:Cystic Fibrosis Research Inc.'s 30th National CF Family Education Conference
DESCRIPTION:
URL:https://patientworthy.com/event/cystic-fibrosis-research-inc-s-30th-national-cf-family-education-conference/
LOCATION:Pullman San Francisco Bay\, 223 Twin Dolphin Drive\, Redwood City\, CA\, United States
CATEGORIES:Cystic Fibrosis
ORGANIZER;CN="CFRI":MAILTO:cfri@cfri.org
END:VEVENT
END:VCALENDAR