BEGIN:VCALENDAR
VERSION:2.0
PRODID:-//Patient Worthy - ECPv5.12.4//NONSGML v1.0//EN
CALSCALE:GREGORIAN
METHOD:PUBLISH
X-WR-CALNAME:Patient Worthy
X-ORIGINAL-URL:https://patientworthy.com
X-WR-CALDESC:Events for Patient Worthy
BEGIN:VTIMEZONE
TZID:America/Los_Angeles
BEGIN:DAYLIGHT
TZOFFSETFROM:-0800
TZOFFSETTO:-0700
TZNAME:PDT
DTSTART:20220313T100000
END:DAYLIGHT
BEGIN:STANDARD
TZOFFSETFROM:-0700
TZOFFSETTO:-0800
TZNAME:PST
DTSTART:20221106T090000
END:STANDARD
END:VTIMEZONE
BEGIN:VEVENT
DTSTART;TZID=America/Los_Angeles:20220720T173000
DTEND;TZID=America/Los_Angeles:20220720T190000
DTSTAMP:20260420T074413
CREATED:20220629T202722Z
LAST-MODIFIED:20220629T202722Z
UID:3208945-1658338200-1658343600@patientworthy.com
SUMMARY:Cystic Fibrosis Research Institute's Online Support Group for Teens with CF
DESCRIPTION:Online Support Group for Teens with CF\nJuly 20th\, 2022 \nThis monthly group addresses the unique issues faced by teenagers between the ages of 13 and 18 growing up with CF. The peer-to-peer support group is facilitated by Teresa Priestley\, MSW\, and Deborah Menet\, LCSW\, social workers at the Stanford CF Center. \nParents must provide consent for their teenagers to attend. \nFor more information and to register\, click here.
URL:https://patientworthy.com/event/cystic-fibrosis-research-support-group-teens-cf/
CATEGORIES:Cystic Fibrosis
ORGANIZER;CN="Cystic%20Fibrosis%20Research%20Institute":MAILTO:cfri@cfri.org
END:VEVENT
END:VCALENDAR