BEGIN:VCALENDAR
VERSION:2.0
PRODID:-//Patient Worthy - ECPv5.12.4//NONSGML v1.0//EN
CALSCALE:GREGORIAN
METHOD:PUBLISH
X-WR-CALNAME:Patient Worthy
X-ORIGINAL-URL:https://patientworthy.com
X-WR-CALDESC:Events for Patient Worthy
BEGIN:VTIMEZONE
TZID:America/New_York
BEGIN:DAYLIGHT
TZOFFSETFROM:-0500
TZOFFSETTO:-0400
TZNAME:EDT
DTSTART:20180311T070000
END:DAYLIGHT
BEGIN:STANDARD
TZOFFSETFROM:-0400
TZOFFSETTO:-0500
TZNAME:EST
DTSTART:20181104T060000
END:STANDARD
END:VTIMEZONE
BEGIN:VEVENT
DTSTART;VALUE=DATE:20180510
DTEND;VALUE=DATE:20180513
DTSTAMP:20260422T145934
CREATED:20180409T205619Z
LAST-MODIFIED:20180409T205619Z
UID:87504-1525910400-1526169599@patientworthy.com
SUMMARY:EURORDIS-Rare Diseases Europe's European Conference on Rare Diseases and Orphan Products
DESCRIPTION:“Rare Diseases 360° – Collaborative Strategies to Leave No-One Behind” \nThis event will be the largest rare disease themed conference in Europe. \nThe conference will touch on a variety of rare disease related topics\, such as the latest research\, treatments\, health and social care standards\, and public policy. \nRegistration\nPatient organizations: 165€/225€ (member/non-member)\nERN reps\, health professionals\, researchers\, goverment reps/workers: 430€\nStudents: 120€\nHealthcare industry: 1450€
URL:https://patientworthy.com/event/eurordis-rare-diseases-european-conference-rare-diseases-orphan/
LOCATION:Messe Wien Exhibition Congress Center\, Messeplatz 1 1021 Wien\, Vienna\, Austria
CATEGORIES:Rare Disease
ORGANIZER;CN="EURORDIS":MAILTO:eurordis@eurordis.org
END:VEVENT
END:VCALENDAR