BEGIN:VCALENDAR
VERSION:2.0
PRODID:-//Patient Worthy - ECPv5.12.4//NONSGML v1.0//EN
CALSCALE:GREGORIAN
METHOD:PUBLISH
X-WR-CALNAME:Patient Worthy
X-ORIGINAL-URL:https://patientworthy.com
X-WR-CALDESC:Events for Patient Worthy
BEGIN:VTIMEZONE
TZID:America/New_York
BEGIN:DAYLIGHT
TZOFFSETFROM:-0500
TZOFFSETTO:-0400
TZNAME:EDT
DTSTART:20220313T070000
END:DAYLIGHT
BEGIN:STANDARD
TZOFFSETFROM:-0400
TZOFFSETTO:-0500
TZNAME:EST
DTSTART:20221106T060000
END:STANDARD
END:VTIMEZONE
BEGIN:VEVENT
DTSTART;TZID=America/New_York:20220402T120000
DTEND;TZID=America/New_York:20220402T130000
DTSTAMP:20260423T083341
CREATED:20220316T194654Z
LAST-MODIFIED:20220316T194654Z
UID:2607497-1648900800-1648904400@patientworthy.com
SUMMARY:HCU Network America's Classical HCU Patient Panel Conversation: The Back to Care Journey
DESCRIPTION:Classical HCU Patient Panel Conversation: The Back to Care Journey Online Event\nApril 2\, 2022 at 12:00 PM \nThe journey looks different for each Classical HCU patient. Join us for a conversation with 5 Classical HCU patients about their experience. \nWe know it’s easy to stray away\, but as patients age\, they realize the importance of keeping in contact with their clinic\, following their diet\, and keeping themselves all around healthy! \nJoin our patient-moderator Danae\, and patients Valerie\, Janet\, Ashley and Aimee as they share about their personal journey that lead them back to care. \nLearn more about the HCU Network America Back to Care program at: https://hcunetworkamerica.org/back-to-care \nTo register for this event\, click here.
URL:https://patientworthy.com/event/hcu-network-america-hcu-patient-conversation-care/
CATEGORIES:Homocystinuria
ORGANIZER;CN="HCU%20Network%20America":MAILTO:hcunetworkamerica@gmail.com
END:VEVENT
END:VCALENDAR