BEGIN:VCALENDAR
VERSION:2.0
PRODID:-//Patient Worthy - ECPv5.12.4//NONSGML v1.0//EN
CALSCALE:GREGORIAN
METHOD:PUBLISH
X-WR-CALNAME:Patient Worthy
X-ORIGINAL-URL:https://patientworthy.com
X-WR-CALDESC:Events for Patient Worthy
BEGIN:VTIMEZONE
TZID:America/New_York
BEGIN:DAYLIGHT
TZOFFSETFROM:-0500
TZOFFSETTO:-0400
TZNAME:EDT
DTSTART:20220313T070000
END:DAYLIGHT
BEGIN:STANDARD
TZOFFSETFROM:-0400
TZOFFSETTO:-0500
TZNAME:EST
DTSTART:20221106T060000
END:STANDARD
END:VTIMEZONE
BEGIN:VEVENT
DTSTART;VALUE=DATE:20220901
DTEND;VALUE=DATE:20221001
DTSTAMP:20260423T101218
CREATED:20220809T203300Z
LAST-MODIFIED:20220809T203300Z
UID:3439630-1661990400-1664582399@patientworthy.com
SUMMARY:HCU Network America's HCU Heroes Race for Research
DESCRIPTION:HCU Heroes Race for Research\nSeptember 1-30\, 2022 \nSet with the participants convenience\, geography and their pace in mind\, in 2019 our first race launched with just 14 participants and raising just over $4\,000. Since then our HCU Race for Research has raised over $45\,000 for homocystinuria research and last year had 147 participants! \nThese races are convenient\, fun and competitive way to support the efforts of HCU Network America (HCUNA). We sincerely appreciate your support for this event and HCU Network America\, and hope you will join us for Race for Research 2022 \nPlease note: Online registration closes at 11:59 p.m. (EST)\, September 2\, 2022. \nTo register\, click here.
URL:https://patientworthy.com/event/hcu-network-americas-hcu-heroes-race-research/
CATEGORIES:Homocystinuria
ORGANIZER;CN="HCU%20Network%20America":MAILTO:hcunetworkamerica@gmail.com
END:VEVENT
END:VCALENDAR