BEGIN:VCALENDAR
VERSION:2.0
PRODID:-//Patient Worthy - ECPv5.12.4//NONSGML v1.0//EN
CALSCALE:GREGORIAN
METHOD:PUBLISH
X-WR-CALNAME:Patient Worthy
X-ORIGINAL-URL:https://patientworthy.com
X-WR-CALDESC:Events for Patient Worthy
BEGIN:VTIMEZONE
TZID:America/New_York
BEGIN:DAYLIGHT
TZOFFSETFROM:-0500
TZOFFSETTO:-0400
TZNAME:EDT
DTSTART:20210314T070000
END:DAYLIGHT
BEGIN:STANDARD
TZOFFSETFROM:-0400
TZOFFSETTO:-0500
TZNAME:EST
DTSTART:20211107T060000
END:STANDARD
END:VTIMEZONE
BEGIN:VEVENT
DTSTART;VALUE=DATE:20210623
DTEND;VALUE=DATE:20210627
DTSTAMP:20260424T073748
CREATED:20210601T192829Z
LAST-MODIFIED:20210601T192829Z
UID:1258257-1624406400-1624751999@patientworthy.com
SUMMARY:The Immune Deficiency Foundation's National Primary Immunodeficiency Conference
DESCRIPTION:The Primary Immunodeficiency Conference\nJune 23-26\, 2021 \nThis conference is the largest primary immunodeficiency (PI) patient gathering on Earth. Patients\, clinicians\, and caregivers will come together for this virtual event dedicated to community\, education\, and awareness surrounding primary immunodeficiency. \nFor more info on this event\, click here. To register for the conference\, click here.
URL:https://patientworthy.com/event/immune-deficiency-foundations-primary-immunodeficiency-conference/
CATEGORIES:Primary Immunodeficiencies
ORGANIZER;CN="Immune%20Deficiency%20Foundation":MAILTO:conference@primaryimmune.org
END:VEVENT
END:VCALENDAR