BEGIN:VCALENDAR
VERSION:2.0
PRODID:-//Patient Worthy - ECPv5.12.4//NONSGML v1.0//EN
CALSCALE:GREGORIAN
METHOD:PUBLISH
X-WR-CALNAME:Patient Worthy
X-ORIGINAL-URL:https://patientworthy.com
X-WR-CALDESC:Events for Patient Worthy
BEGIN:VTIMEZONE
TZID:America/New_York
BEGIN:DAYLIGHT
TZOFFSETFROM:-0500
TZOFFSETTO:-0400
TZNAME:EDT
DTSTART:20170312T070000
END:DAYLIGHT
BEGIN:STANDARD
TZOFFSETFROM:-0400
TZOFFSETTO:-0500
TZNAME:EST
DTSTART:20171105T060000
END:STANDARD
END:VTIMEZONE
BEGIN:VEVENT
DTSTART;VALUE=DATE:20171024
DTEND;VALUE=DATE:20171025
DTSTAMP:20260422T130518
CREATED:20170919T162501Z
LAST-MODIFIED:20170919T162532Z
UID:61723-1508803200-1508889599@patientworthy.com
SUMMARY:Living with PBC: Learning Together: Cincinnati\, OH
DESCRIPTION:Primary biliary cholangitis (PBC) is a rare disease\, but you don’t have to face it alone. Join us for an educational program and connect with others who understand what you’re going through. \n\nLearn from a Certified Nurse Educator’s overview of PBC\nHear a Patient Ambassador share his or her personal\nstory of being diagnosed with PBC\nEmpower yourself with resources to be proactive\nabout your life with PBC
URL:https://patientworthy.com/event/living-pbc-learning-together-cincinnati-oh/
LOCATION:Ruth’s Chris Steak House\, 100 East Freedom Way \, Cincinnatti\, OH\, 45202\, United States
CATEGORIES:Primary Biliary Cholangitis
ORGANIZER;CN="Intercept":MAILTO:info@interceptpharma.com
END:VEVENT
END:VCALENDAR