BEGIN:VCALENDAR
VERSION:2.0
PRODID:-//Patient Worthy - ECPv5.12.4//NONSGML v1.0//EN
CALSCALE:GREGORIAN
METHOD:PUBLISH
X-WR-CALNAME:Patient Worthy
X-ORIGINAL-URL:https://patientworthy.com
X-WR-CALDESC:Events for Patient Worthy
BEGIN:VTIMEZONE
TZID:America/New_York
BEGIN:DAYLIGHT
TZOFFSETFROM:-0500
TZOFFSETTO:-0400
TZNAME:EDT
DTSTART:20180311T070000
END:DAYLIGHT
BEGIN:STANDARD
TZOFFSETFROM:-0400
TZOFFSETTO:-0500
TZNAME:EST
DTSTART:20181104T060000
END:STANDARD
END:VTIMEZONE
BEGIN:VEVENT
DTSTART;VALUE=DATE:20180609
DTEND;VALUE=DATE:20180611
DTSTAMP:20260422T162527
CREATED:20180409T212658Z
LAST-MODIFIED:20180409T212658Z
UID:87516-1528502400-1528675199@patientworthy.com
SUMMARY:Soft Bones' International HPP Meeting
DESCRIPTION:2018 International HPP Meeting\nThis is an invitation only event open to physicians\, scientists\, and researchers. \nThe Soft Bones Scientific Advisory Board will be responsible for sending invitations and determining the agenda.
URL:https://patientworthy.com/event/soft-bones-international-hpp-meeting/
CATEGORIES:Hypophosphatasia,Rare Disease
END:VEVENT
END:VCALENDAR