BEGIN:VCALENDAR
VERSION:2.0
PRODID:-//Patient Worthy - ECPv5.12.4//NONSGML v1.0//EN
CALSCALE:GREGORIAN
METHOD:PUBLISH
X-WR-CALNAME:Patient Worthy
X-ORIGINAL-URL:https://patientworthy.com
X-WR-CALDESC:Events for Patient Worthy
BEGIN:VTIMEZONE
TZID:America/New_York
BEGIN:DAYLIGHT
TZOFFSETFROM:-0500
TZOFFSETTO:-0400
TZNAME:EDT
DTSTART:20220313T070000
END:DAYLIGHT
BEGIN:STANDARD
TZOFFSETFROM:-0400
TZOFFSETTO:-0500
TZNAME:EST
DTSTART:20221106T060000
END:STANDARD
END:VTIMEZONE
BEGIN:VEVENT
DTSTART;TZID=America/New_York:20220406T120000
DTEND;TZID=America/New_York:20220406T130000
DTSTAMP:20260421T083723
CREATED:20220329T195459Z
LAST-MODIFIED:20220401T141422Z
UID:2682266-1649246400-1649250000@patientworthy.com
SUMMARY:SynGAP Research Fund's Severe Behaviors and Advocacy Webinar
DESCRIPTION:The SynGAP Research Fund: Severe Behaviors & Advocacy\nApril 6\, 2022 \nSpeaker: Jackie Kancir\, Policy Committee\, National Council on Severe Autism 21-22 Scholar\, Partners in Policymaking \nTo register\, click here.\n 
URL:https://patientworthy.com/event/syngap-research-severe-behaviors-advocacy-webinar/
CATEGORIES:SYNGAP1
ORGANIZER;CN="The%20SynGAP%20Research%20Fund":MAILTO:info@syngapresearchfund.org
END:VEVENT
END:VCALENDAR