BEGIN:VCALENDAR
VERSION:2.0
PRODID:-//Patient Worthy - ECPv5.12.4//NONSGML v1.0//EN
CALSCALE:GREGORIAN
METHOD:PUBLISH
X-WR-CALNAME:Patient Worthy
X-ORIGINAL-URL:https://patientworthy.com
X-WR-CALDESC:Events for Patient Worthy
BEGIN:VTIMEZONE
TZID:America/New_York
BEGIN:DAYLIGHT
TZOFFSETFROM:-0500
TZOFFSETTO:-0400
TZNAME:EDT
DTSTART:20180311T070000
END:DAYLIGHT
BEGIN:STANDARD
TZOFFSETFROM:-0400
TZOFFSETTO:-0500
TZNAME:EST
DTSTART:20181104T060000
END:STANDARD
END:VTIMEZONE
BEGIN:VEVENT
DTSTART;VALUE=DATE:20180615
DTEND;VALUE=DATE:20180618
DTSTAMP:20260423T002657
CREATED:20180405T144003Z
LAST-MODIFIED:20180405T144003Z
UID:87092-1529020800-1529279999@patientworthy.com
SUMMARY:The Foundation for Sickle Cell Disease Research's 12th Annual Symposium
DESCRIPTION:Sickle Cell Disease Research and Educational Symposium\n“From Biology to Therapy: Improvement of Therapeutic options for clinical care in sickle cell disease”\nThis conference will present the latest research and findings related to sickle cell disease treatment. \nRegistration\nPatients/Caregivers/Advocates/Medical Students: $295\nEmeritus: $425\nFellow/Nurse/Physician Assistant/Social Workers: $565\nMedical Professionals/Physicians/Doctors: $895\n\n\n 
URL:https://patientworthy.com/event/the-foundation-for-sickle-cell-disease-researchs-12th-annual-symposium/
LOCATION:Washington Marriott Wardman Park\, Washington\, DC\, United States
CATEGORIES:Rare Disease,Sickle Cell Disease
ORGANIZER;CN="Foundation%20for%20Sickle%20Cell%20Disease%20Research":MAILTO:info@fscdr.org
END:VEVENT
END:VCALENDAR