BEGIN:VCALENDAR
VERSION:2.0
PRODID:-//Patient Worthy - ECPv5.12.4//NONSGML v1.0//EN
CALSCALE:GREGORIAN
METHOD:PUBLISH
X-WR-CALNAME:Patient Worthy
X-ORIGINAL-URL:https://patientworthy.com
X-WR-CALDESC:Events for Patient Worthy
BEGIN:VTIMEZONE
TZID:America/New_York
BEGIN:DAYLIGHT
TZOFFSETFROM:-0500
TZOFFSETTO:-0400
TZNAME:EDT
DTSTART:20180311T070000
END:DAYLIGHT
BEGIN:STANDARD
TZOFFSETFROM:-0400
TZOFFSETTO:-0500
TZNAME:EST
DTSTART:20181104T060000
END:STANDARD
END:VTIMEZONE
BEGIN:VEVENT
DTSTART;VALUE=DATE:20180906
DTEND;VALUE=DATE:20180910
DTSTAMP:20260422T144244
CREATED:20180427T194941Z
LAST-MODIFIED:20180427T194941Z
UID:89316-1536192000-1536537599@patientworthy.com
SUMMARY:The Myositis Association's Annual Patient Conference
DESCRIPTION:The 2018 Annual Patient Conference\n  \nThis conference will be an opportunity for patients\, their families\, and caregivers to learn the latest in research for various forms of myositis\, such as dermatomyositis and inclusion body myositis. \n\n 
URL:https://patientworthy.com/event/the-myositis-associations-annual-patient-conference/
LOCATION:Marriott Louisville Downtown\, 280 W Jefferson St\, Louisville\, KY\, United States
CATEGORIES:Body Inclusion Myositis,Dermatomyositis,Rare Disease
ORGANIZER;CN="The%20Myositis%20Association":MAILTO:TMA@myositis.org
END:VEVENT
END:VCALENDAR